BEGIN:VCALENDAR
VERSION:2.0
PRODID:-//Asian Heritage - Edmonton - ECPv6.5.0//NONSGML v1.0//EN
CALSCALE:GREGORIAN
METHOD:PUBLISH
X-ORIGINAL-URL:https://asianheritagemonth.ca
X-WR-CALDESC:Events for Asian Heritage - Edmonton
REFRESH-INTERVAL;VALUE=DURATION:PT1H
X-Robots-Tag:noindex
X-PUBLISHED-TTL:PT1H
BEGIN:VTIMEZONE
TZID:America/Edmonton
BEGIN:DAYLIGHT
TZOFFSETFROM:-0700
TZOFFSETTO:-0600
TZNAME:MDT
DTSTART:20240310T090000
END:DAYLIGHT
BEGIN:STANDARD
TZOFFSETFROM:-0600
TZOFFSETTO:-0700
TZNAME:MST
DTSTART:20241103T080000
END:STANDARD
BEGIN:DAYLIGHT
TZOFFSETFROM:-0700
TZOFFSETTO:-0600
TZNAME:MDT
DTSTART:20250309T090000
END:DAYLIGHT
BEGIN:STANDARD
TZOFFSETFROM:-0600
TZOFFSETTO:-0700
TZNAME:MST
DTSTART:20251102T080000
END:STANDARD
BEGIN:DAYLIGHT
TZOFFSETFROM:-0700
TZOFFSETTO:-0600
TZNAME:MDT
DTSTART:20260308T090000
END:DAYLIGHT
BEGIN:STANDARD
TZOFFSETFROM:-0600
TZOFFSETTO:-0700
TZNAME:MST
DTSTART:20261101T080000
END:STANDARD
END:VTIMEZONE
BEGIN:VEVENT
DTSTART;TZID=America/Edmonton:20241103T110000
DTEND;TZID=America/Edmonton:20261231T160000
DTSTAMP:20260425T103000
CREATED:20241104T033434Z
LAST-MODIFIED:20241104T033654Z
UID:3177-1730631600-1798732800@asianheritagemonth.ca
SUMMARY:Journey of the Horse Exhibit
DESCRIPTION:A PERMANENT EXHIBIT at THE MAH SOCIETY OF EDMONTON \nJourney of the Horse is committed to preserving the rich cultural heritage of Edmonton’s Chinese history. Our exhibit is a permanent installation on two levels in the Mah Society of Edmonton building.  \nThis two-part exhibit starts with a journey through the Mah Society of Edmonton’s rich\, 100+ year history. Visitors are encouraged to continue to level two\, to follow the journey of Chinese settlers in Alberta. Also housed on level two are our cultural practices archive and genealogy library. \nCome see our collection of fascinating objects and stories that illustrate the challenges and triumphs of Edmonton’s Chinese community. We invite you to immerse yourself in this historic experience and learn more about Edmonton’s Chinese past. \nOpen only on selected Saturdays and Sundays. \nPlease register for your complimentary entrance tickets. The exhibit is open from 11:00 am to 4:00 pm. We recommend you allow 1+ hour to view all the displays. \nTickets are free but you must reserve \nhttps://journeyofthehorseyeg.wixsite.com/home/visit-us
URL:https://asianheritagemonth.ca/event/journey-of-the-horse-exhibit/
LOCATION:Mah Society of Edmonton\, 9643 101A Avenue NW\, Edmonton\, Alberta\, T5H 0C8\, Edmonton\, Alberta\, T5H 0C8\, Canada
ATTACH;FMTTYPE=image/jpeg:https://asianheritagemonth.ca/wp-content/uploads/2024/11/Journey-of-the-Horse-1.jpg
END:VEVENT
BEGIN:VEVENT
DTSTART;TZID=America/Edmonton:20260129T120000
DTEND;TZID=America/Edmonton:20260208T170000
DTSTAMP:20260425T103000
CREATED:20260103T072852Z
LAST-MODIFIED:20260103T072852Z
UID:3510-1769688000-1770570000@asianheritagemonth.ca
SUMMARY:Chinatown Dining Week
DESCRIPTION:Chinatown Dining Week 2026 is back from January 29 – February 8\, 2026.\nTry something new and find out what makes YEG Chinatown special. \n🍜 Special $10 & $20 menus\n🥟 Participating local restaurants\n📍 Dine-in & takeout \nMark your calendars & get ready for a taste-bud adventure!
URL:https://asianheritagemonth.ca/event/chinatown-dining-week-6/
LOCATION:Chinatown\, 97 Street and 105 Avenue\, Edmonton
ATTACH;FMTTYPE=image/jpeg:https://asianheritagemonth.ca/wp-content/uploads/2026/01/Dining-Week.jpg
ORGANIZER;CN="YEG Chinatown Events":MAILTO:promo@tpsyeg.com
END:VEVENT
BEGIN:VEVENT
DTSTART;TZID=America/Edmonton:20260207T100000
DTEND;TZID=America/Edmonton:20260208T180000
DTSTAMP:20260425T103000
CREATED:20251114T034357Z
LAST-MODIFIED:20251114T034451Z
UID:3488-1770458400-1770573600@asianheritagemonth.ca
SUMMARY:Lunar New Year Extravaganza 2026 - West Edmonton Mall
DESCRIPTION:Our annual Lunar New Year Extravaganza will be held on February 7 & 8\, 2026 \nEvent Date & Time:\nFebruary 7\, 2026 (Saturday)\, 10:00 a.m. to 9:00 p.m.\nFebruary 8\, 2026 (Sunday)\, 10:00 a.m. to 6:00 p.m. \n📍Event Location:\nIce Palace at West Edmonton Mall – 170th Street and 87thAvenue\, Edmonton \nContact us for details：780-424-8124
URL:https://asianheritagemonth.ca/event/lunar-new-year-extravaganza-2026-west-edmonton-mall/
LOCATION:West Edmonton Mall Ice Palace\, 8882 170 Street NW\, Edmonton\, T5T 4J2
ATTACH;FMTTYPE=image/jpeg:https://asianheritagemonth.ca/wp-content/uploads/2025/11/WEM-CNY-Feb-7-8-2026.jpg
END:VEVENT
BEGIN:VEVENT
DTSTART;TZID=America/Edmonton:20260207T110000
DTEND;TZID=America/Edmonton:20260208T170000
DTSTAMP:20260425T103000
CREATED:20251210T045527Z
LAST-MODIFIED:20251210T045759Z
UID:3503-1770462000-1770570000@asianheritagemonth.ca
SUMMARY:Togather Chinatown Arts Festival
DESCRIPTION:The Togather Chinatown Arts Festival is a multicultural\, family-friendly\, art\, food\, and community festival that takes place over Lunar New Year on February 7 & 8\, 2026 at Pacific Mall! \nThe name “Togather” is inspired by the Chinese slogan 不见不散\, meaning “Don’t leave until we meet”. \nWe aim to create a space where diverse groups can come together in Chinatown to celebrate the Lunar New Year through a shared love of art\, food\, and community. The festival features a community market made up of local artists\, community organizations\, and micro-businesses who are making a splash in the local arts scene. We encourage community members to creatively share their background and histories\, and to celebrate Edmonton’s vibrant and diverse arts and culture scene.
URL:https://asianheritagemonth.ca/event/togather-chinatown-arts-festival/
LOCATION:Pacific Rim Mall\, 9700 - 105 Avenue NW\, Edmonton\, T5H 4J1
ATTACH;FMTTYPE=image/jpeg:https://asianheritagemonth.ca/wp-content/uploads/2025/12/Togather-2026.jpg
END:VEVENT
BEGIN:VEVENT
DTSTART;TZID=America/Edmonton:20260208T120000
DTEND;TZID=America/Edmonton:20260208T170000
DTSTAMP:20260425T103000
CREATED:20260106T070252Z
LAST-MODIFIED:20260106T070252Z
UID:3515-1770552000-1770570000@asianheritagemonth.ca
SUMMARY:Lunar New Year of the Horse at Londonderry Mall
DESCRIPTION:Celebrate the Year of the Horse with us at Londonderry Mall! \nJoin us on Sunday\, February 8\, for a vibrant Lunar New Year celebration brought to you by the Edmonton Chinese Bilingual Education Association. \nEnjoy lively lion dances\, captivating martial arts demos\, arts and crafts\, a wishing tree\, music\, drumming and so much more! \n📍 East Court🕛 12 PM – 5 PM
URL:https://asianheritagemonth.ca/event/lunar-new-year-of-the-horse-at-londonderry-mall/
LOCATION:Londonderry Mall\, 137 Avenue & 66 Street\, T5C 3C8
ATTACH;FMTTYPE=image/jpeg:https://asianheritagemonth.ca/wp-content/uploads/2026/01/LNY-Londonderry-Mall.jpg
END:VEVENT
END:VCALENDAR