BEGIN:VCALENDAR
VERSION:2.0
PRODID:-//Asian Heritage - Edmonton - ECPv6.5.0//NONSGML v1.0//EN
CALSCALE:GREGORIAN
METHOD:PUBLISH
X-ORIGINAL-URL:https://asianheritagemonth.ca
X-WR-CALDESC:Events for Asian Heritage - Edmonton
REFRESH-INTERVAL;VALUE=DURATION:PT1H
X-Robots-Tag:noindex
X-PUBLISHED-TTL:PT1H
BEGIN:VTIMEZONE
TZID:America/Edmonton
BEGIN:DAYLIGHT
TZOFFSETFROM:-0700
TZOFFSETTO:-0600
TZNAME:MDT
DTSTART:20240310T090000
END:DAYLIGHT
BEGIN:STANDARD
TZOFFSETFROM:-0600
TZOFFSETTO:-0700
TZNAME:MST
DTSTART:20241103T080000
END:STANDARD
BEGIN:DAYLIGHT
TZOFFSETFROM:-0700
TZOFFSETTO:-0600
TZNAME:MDT
DTSTART:20250309T090000
END:DAYLIGHT
BEGIN:STANDARD
TZOFFSETFROM:-0600
TZOFFSETTO:-0700
TZNAME:MST
DTSTART:20251102T080000
END:STANDARD
BEGIN:DAYLIGHT
TZOFFSETFROM:-0700
TZOFFSETTO:-0600
TZNAME:MDT
DTSTART:20260308T090000
END:DAYLIGHT
BEGIN:STANDARD
TZOFFSETFROM:-0600
TZOFFSETTO:-0700
TZNAME:MST
DTSTART:20261101T080000
END:STANDARD
END:VTIMEZONE
BEGIN:VEVENT
DTSTART;TZID=America/Edmonton:20241103T110000
DTEND;TZID=America/Edmonton:20261231T160000
DTSTAMP:20260425T103314
CREATED:20241104T033434Z
LAST-MODIFIED:20241104T033654Z
UID:3177-1730631600-1798732800@asianheritagemonth.ca
SUMMARY:Journey of the Horse Exhibit
DESCRIPTION:A PERMANENT EXHIBIT at THE MAH SOCIETY OF EDMONTON \nJourney of the Horse is committed to preserving the rich cultural heritage of Edmonton’s Chinese history. Our exhibit is a permanent installation on two levels in the Mah Society of Edmonton building.  \nThis two-part exhibit starts with a journey through the Mah Society of Edmonton’s rich\, 100+ year history. Visitors are encouraged to continue to level two\, to follow the journey of Chinese settlers in Alberta. Also housed on level two are our cultural practices archive and genealogy library. \nCome see our collection of fascinating objects and stories that illustrate the challenges and triumphs of Edmonton’s Chinese community. We invite you to immerse yourself in this historic experience and learn more about Edmonton’s Chinese past. \nOpen only on selected Saturdays and Sundays. \nPlease register for your complimentary entrance tickets. The exhibit is open from 11:00 am to 4:00 pm. We recommend you allow 1+ hour to view all the displays. \nTickets are free but you must reserve \nhttps://journeyofthehorseyeg.wixsite.com/home/visit-us
URL:https://asianheritagemonth.ca/event/journey-of-the-horse-exhibit/
LOCATION:Mah Society of Edmonton\, 9643 101A Avenue NW\, Edmonton\, Alberta\, T5H 0C8\, Edmonton\, Alberta\, T5H 0C8\, Canada
ATTACH;FMTTYPE=image/jpeg:https://asianheritagemonth.ca/wp-content/uploads/2024/11/Journey-of-the-Horse-1.jpg
END:VEVENT
BEGIN:VEVENT
DTSTART;TZID=America/Edmonton:20260129T120000
DTEND;TZID=America/Edmonton:20260208T170000
DTSTAMP:20260425T103314
CREATED:20260103T072852Z
LAST-MODIFIED:20260103T072852Z
UID:3510-1769688000-1770570000@asianheritagemonth.ca
SUMMARY:Chinatown Dining Week
DESCRIPTION:Chinatown Dining Week 2026 is back from January 29 – February 8\, 2026.\nTry something new and find out what makes YEG Chinatown special. \n🍜 Special $10 & $20 menus\n🥟 Participating local restaurants\n📍 Dine-in & takeout \nMark your calendars & get ready for a taste-bud adventure!
URL:https://asianheritagemonth.ca/event/chinatown-dining-week-6/
LOCATION:Chinatown\, 97 Street and 105 Avenue\, Edmonton
ATTACH;FMTTYPE=image/jpeg:https://asianheritagemonth.ca/wp-content/uploads/2026/01/Dining-Week.jpg
ORGANIZER;CN="YEG Chinatown Events":MAILTO:promo@tpsyeg.com
END:VEVENT
BEGIN:VEVENT
DTSTART;TZID=America/Edmonton:20260207T100000
DTEND;TZID=America/Edmonton:20260208T180000
DTSTAMP:20260425T103314
CREATED:20251114T034357Z
LAST-MODIFIED:20251114T034451Z
UID:3488-1770458400-1770573600@asianheritagemonth.ca
SUMMARY:Lunar New Year Extravaganza 2026 - West Edmonton Mall
DESCRIPTION:Our annual Lunar New Year Extravaganza will be held on February 7 & 8\, 2026 \nEvent Date & Time:\nFebruary 7\, 2026 (Saturday)\, 10:00 a.m. to 9:00 p.m.\nFebruary 8\, 2026 (Sunday)\, 10:00 a.m. to 6:00 p.m. \n📍Event Location:\nIce Palace at West Edmonton Mall – 170th Street and 87thAvenue\, Edmonton \nContact us for details：780-424-8124
URL:https://asianheritagemonth.ca/event/lunar-new-year-extravaganza-2026-west-edmonton-mall/
LOCATION:West Edmonton Mall Ice Palace\, 8882 170 Street NW\, Edmonton\, T5T 4J2
ATTACH;FMTTYPE=image/jpeg:https://asianheritagemonth.ca/wp-content/uploads/2025/11/WEM-CNY-Feb-7-8-2026.jpg
END:VEVENT
BEGIN:VEVENT
DTSTART;TZID=America/Edmonton:20260207T110000
DTEND;TZID=America/Edmonton:20260208T170000
DTSTAMP:20260425T103314
CREATED:20251210T045527Z
LAST-MODIFIED:20251210T045759Z
UID:3503-1770462000-1770570000@asianheritagemonth.ca
SUMMARY:Togather Chinatown Arts Festival
DESCRIPTION:The Togather Chinatown Arts Festival is a multicultural\, family-friendly\, art\, food\, and community festival that takes place over Lunar New Year on February 7 & 8\, 2026 at Pacific Mall! \nThe name “Togather” is inspired by the Chinese slogan 不见不散\, meaning “Don’t leave until we meet”. \nWe aim to create a space where diverse groups can come together in Chinatown to celebrate the Lunar New Year through a shared love of art\, food\, and community. The festival features a community market made up of local artists\, community organizations\, and micro-businesses who are making a splash in the local arts scene. We encourage community members to creatively share their background and histories\, and to celebrate Edmonton’s vibrant and diverse arts and culture scene.
URL:https://asianheritagemonth.ca/event/togather-chinatown-arts-festival/
LOCATION:Pacific Rim Mall\, 9700 - 105 Avenue NW\, Edmonton\, T5H 4J1
ATTACH;FMTTYPE=image/jpeg:https://asianheritagemonth.ca/wp-content/uploads/2025/12/Togather-2026.jpg
END:VEVENT
BEGIN:VEVENT
DTSTART;TZID=America/Edmonton:20260208T120000
DTEND;TZID=America/Edmonton:20260208T170000
DTSTAMP:20260425T103314
CREATED:20260106T070252Z
LAST-MODIFIED:20260106T070252Z
UID:3515-1770552000-1770570000@asianheritagemonth.ca
SUMMARY:Lunar New Year of the Horse at Londonderry Mall
DESCRIPTION:Celebrate the Year of the Horse with us at Londonderry Mall! \nJoin us on Sunday\, February 8\, for a vibrant Lunar New Year celebration brought to you by the Edmonton Chinese Bilingual Education Association. \nEnjoy lively lion dances\, captivating martial arts demos\, arts and crafts\, a wishing tree\, music\, drumming and so much more! \n📍 East Court🕛 12 PM – 5 PM
URL:https://asianheritagemonth.ca/event/lunar-new-year-of-the-horse-at-londonderry-mall/
LOCATION:Londonderry Mall\, 137 Avenue & 66 Street\, T5C 3C8
ATTACH;FMTTYPE=image/jpeg:https://asianheritagemonth.ca/wp-content/uploads/2026/01/LNY-Londonderry-Mall.jpg
END:VEVENT
BEGIN:VEVENT
DTSTART;TZID=America/Edmonton:20260214T110000
DTEND;TZID=America/Edmonton:20260214T170000
DTSTAMP:20260425T103314
CREATED:20260121T075903Z
LAST-MODIFIED:20260122T042145Z
UID:3522-1771066800-1771088400@asianheritagemonth.ca
SUMMARY:Lunar New Year at Kingsway Mall
DESCRIPTION:The Chinese Graduates Association of Alberta (CGAA) invites you to the 2026 Lunar New Year of the Horse Celebration on Saturday\, February 14\, 2026.\nThe celebration will feature many Chinese Community Organizations showcasing their cultural displays\, interactive activities\, and performances. Performances include lion dances\, dragon dance\, drumming\, martial arts demo\, cultural dance\, instrumental music and singing. This family-friendly event will also include hands-on activities like cultural displays\, puppet show\, cultural games\, craft making\, Karaoke and Chinese tea tasting. Gain first hand experience of Chinese painting and calligraphy through demo.\nJoin us for an exciting and fun celebration open to everyone!\nEvent: Lunar New Year of the Horse\nLocation: Kingsway Mall\, 109 St. – Kingsway Ave.\, Edmonton\nDate: Saturday\, February 14\, 2026\nTime: 11:00 am – 5:00 pm\nFor interview and details\, contact: Rena Liu\, renalliu4@gmail.com 780-655-9075 \n  \nActivities\n\n\nFortune Sticks\nMahjong\nWishing Tree\nCalligraphy\nPainting\nCrafts\nPhoto and Selfie Booth\nArrow Throwing Games\nChinese Board Games\nAnd more!
URL:https://asianheritagemonth.ca/event/lunar-new-year-at-kingsway-mall-2/
LOCATION:Kingsway Mall\, 109 Street & Kingsway\, Edmonton\, Alberta\, T5G 3A6\, Canada
ATTACH;FMTTYPE=image/jpeg:https://asianheritagemonth.ca/wp-content/uploads/2026/01/2026-LNY-Kingsway-poster.jpg
ORGANIZER;CN="Chinese Graduates Association of Alberta (CGAA)":MAILTO:info@cgaa.ab.ca 
END:VEVENT
BEGIN:VEVENT
DTSTART;TZID=America/Edmonton:20260222T103000
DTEND;TZID=America/Edmonton:20260222T153000
DTSTAMP:20260425T103314
CREATED:20260130T233809Z
LAST-MODIFIED:20260130T234216Z
UID:3538-1771756200-1771774200@asianheritagemonth.ca
SUMMARY:Lunar New Year Celebration with Royal Alberta Museum & Chinatown
DESCRIPTION:Lion Dance and Firecrackers begin at 10:30 am in front of Lucky 97 Supermarket. \nMuseum Festivities begin at 12 noon to 3:30 pm at the Royal Alberta Museum \nStep into the Year of the Horse filled with happiness\, prosperity and love. \nWe can’t wait to celebrate with you! \nFollow @yeg_chinatown for more details!
URL:https://asianheritagemonth.ca/event/lunar-new-year-celebration-with-royal-alberta-museum-chinatown/
LOCATION:Chinatown\, 97 Street and 105 Avenue\, Edmonton
ATTACH;FMTTYPE=image/jpeg:https://asianheritagemonth.ca/wp-content/uploads/2026/01/BIA-2026.jpg
END:VEVENT
BEGIN:VEVENT
DTSTART;TZID=America/Edmonton:20260228T160000
DTEND;TZID=America/Edmonton:20260228T180000
DTSTAMP:20260425T103314
CREATED:20260219T235100Z
LAST-MODIFIED:20260219T235446Z
UID:3557-1772294400-1772301600@asianheritagemonth.ca
SUMMARY:Persianate Majles - Music and Poetry of China
DESCRIPTION:Presented by Saba Centre for Culture and Arts \nWe are delighted to present the second series of Persianate Majles for Edmonton\, generously sponsored by the Edmonton Arts Council. Building on the success of our previous programs\, this new series continues the tradition of Majles as an intimate gathering of music\, poetry\, and dialogue\, bringing together Persian\, Canadian\, and world artistic traditions in a shared space of deep listening and intercultural exchange. Taking place biweekly from February to August\, the series invites musicians and poets from diverse backgrounds to join us in performing their art\, engaging audiences\, and contributing to a growing community shaped by attentiveness\, dialogue\, and mutual respect.
URL:https://asianheritagemonth.ca/event/persianate-majles-music-and-poetry-of-china/
LOCATION:Rasht Cafe\, 10321 - 124 Streer NW\, Edmonton\, Alberta\, T5N 1R1
ATTACH;FMTTYPE=image/jpeg:https://asianheritagemonth.ca/wp-content/uploads/2026/02/Persianate.jpg
END:VEVENT
BEGIN:VEVENT
DTSTART;TZID=America/Edmonton:20260308T150000
DTEND;TZID=America/Edmonton:20260308T170000
DTSTAMP:20260425T103314
CREATED:20260130T233057Z
LAST-MODIFIED:20260130T233057Z
UID:3535-1772982000-1772989200@asianheritagemonth.ca
SUMMARY:A Chinese Love Story
DESCRIPTION:Don’t miss a rare opportunity to listen to a Chinese classic live in Edmonton: The Butterfly Lovers Violin Concerto\n\n\nSymphonic program uniting Western and Eastern ensembles in a staple of the Chinese repertoire: Gang Chen and Zhanhao He’s Butterfly Lovers Violin concerto. The program will recount the tale of the Chinese lovers\, Liang Shanbo and Zhu Yingtai\, and their Western counterparts\, the Shakespearean characters Romeo and Juliet\, as depicted by Tchaikovsky\, and Maria and Tony by Bernstein\, in a fascinating storytelling of love and tragedy portrayed in music.The concerto will be interpreted by violinist Raymond Leung. CSO is proud to share the stage with special guests\, the Edmonton Chinese Philharmonica Orchestra and conductor Jason Wong.Pre-concert chat at 2:15 p.m. with Professor Christopher LupkeChristopher Lupke is Professor of Chinese Cultural Studies in the Department of East Asian Studies at the University of Alberta.Secure your tickets today!DATE: Sunday\, March 08TIME: 3:00 p.m.VENUE: Tegler Centre\, Concordia University of Edmonton
URL:https://asianheritagemonth.ca/event/a-chinese-love-story/
LOCATION:Concordia University of Edmonton\, 7218 Ada Blvd\, Edmonton\, T5B 4E4
ATTACH;FMTTYPE=image/jpeg:https://asianheritagemonth.ca/wp-content/uploads/2026/01/Chinese-Love-Song.jpeg
END:VEVENT
BEGIN:VEVENT
DTSTART;TZID=America/Edmonton:20260503T130000
DTEND;TZID=America/Edmonton:20260503T163000
DTSTAMP:20260425T103314
CREATED:20260408T071955Z
LAST-MODIFIED:20260408T071955Z
UID:3569-1777813200-1777825800@asianheritagemonth.ca
SUMMARY:17th Annual ECBEA Awards - Asian Heritage Month
DESCRIPTION:Congratulations to all our scholarship winners for the 2024-2025 school year! \nJoin in the celebration of scholarship winners from Edmonton’s renown Chinese (Mandarin) Bilingual Program offered in 15 Edmonton Public Schools.
URL:https://asianheritagemonth.ca/event/17th-annual-ecbea-awards-asian-heritage-month/
LOCATION:City Hall\, 1 Sir Winston Churchill Square\, Edmonton
ATTACH;FMTTYPE=image/jpeg:https://asianheritagemonth.ca/wp-content/uploads/2026/04/ecbea.jpg
END:VEVENT
BEGIN:VEVENT
DTSTART;TZID=America/Edmonton:20260510T193000
DTEND;TZID=America/Edmonton:20260510T213000
DTSTAMP:20260425T103314
CREATED:20260408T071420Z
LAST-MODIFIED:20260408T072046Z
UID:3566-1778441400-1778448600@asianheritagemonth.ca
SUMMARY:Piano Gala Featuring Angela Cheng - Asian Heritage Month
DESCRIPTION:Don’t miss this one-of-a-kind opportunity to hear Canadian treasure\, pianist Angela Cheng. Celebrated worldwide for her dazzling technique and profound artistry\, she returns home to perform a gala concert with the ERS. \nThis is your chance to experience the thrill of sitting on the Winspear stage\, just steps away from one of the world’s most distinguished pianists\, in a performance that promises both intimacy and brilliance. \nThis concert will include an intermission.
URL:https://asianheritagemonth.ca/event/piano-gala-featuring-angela-cheng/
LOCATION:Winspear Centre\, 4 Sir Winston Churchill Square\, Corner of 99th Street and 102 Avenue\, Edmonton
ATTACH;FMTTYPE=image/webp:https://asianheritagemonth.ca/wp-content/uploads/2026/04/Angela_Cheng_1600x1000.webp
END:VEVENT
BEGIN:VEVENT
DTSTART;TZID=America/Edmonton:20260515T130000
DTEND;TZID=America/Edmonton:20260517T170000
DTSTAMP:20260425T103314
CREATED:20260424T062016Z
LAST-MODIFIED:20260424T062016Z
UID:3583-1778850000-1779037200@asianheritagemonth.ca
SUMMARY:22nd Mah Society National Convention
DESCRIPTION:Mah Clan National Convention – May 15 – 17\, 2026. Main banquet held on Saturday May 16 at Chateau Lacombe (10111Bellamy Hill Rd)\n\nThe national convention is an opportunity for Board business to be conducted\, and back in the early half of the 1900s\, was the only time chapters had a chance to converse face-to-face with each other.\n\n\n\n\n\nToday\, the convention still serves the same purpose. New Boards are elected\, official reports are given\, but most importantly\, meals are shared\, traditions are kept\, and bonds are re-establishe\n\n\n\n\n\nThis year’s Convention Banquet/Edmonton Spring Banquet is on May 16\, 2026 at the Chateau Lacombe Hotel. \n\nInfo: www.mahsocietyedmonton.com/
URL:https://asianheritagemonth.ca/event/22nd-mah-society-national-convention/
LOCATION:Mah Society of Edmonton\, 9643 101A Avenue NW\, Edmonton\, Alberta\, T5H 0C8\, Edmonton\, Alberta\, T5H 0C8\, Canada
ATTACH;FMTTYPE=image/jpeg:https://asianheritagemonth.ca/wp-content/uploads/2026/04/Mah-2026-National.jpg
END:VEVENT
BEGIN:VEVENT
DTSTART;TZID=America/Edmonton:20260606T100000
DTEND;TZID=America/Edmonton:20260607T180000
DTSTAMP:20260425T103314
CREATED:20260219T072930Z
LAST-MODIFIED:20260219T073047Z
UID:3549-1780740000-1780855200@asianheritagemonth.ca
SUMMARY:Van Loc Bloc Party
DESCRIPTION:Join us throughout the weekend of June 6-7th for live music\, local artists\, food and vendors\, live DJs\, lion dance performances\, martial arts\, dance\, … \nTwo years of turning 98 Street into our backyard of fun. Two years of proving free block parties can revitalize neighborhoods. Two years of YOU showing up.\nThis year? We’re going BIGGER. More music. More makers. More magic. \n📍 Chinatown\n📅 June 6–7\, 2026\n🎟️ FREE family-friendly
URL:https://asianheritagemonth.ca/event/van-loc-bloc-party/
LOCATION:Van Loc Vietnamers Submarine\, 10648 98 Street NW\, Edmonton\, Alberta\, T5H 2N7
ATTACH;FMTTYPE=image/jpeg:https://asianheritagemonth.ca/wp-content/uploads/2026/02/Van-Loc-Party.jpg
END:VEVENT
BEGIN:VEVENT
DTSTART;TZID=America/Edmonton:20260807T100000
DTEND;TZID=America/Edmonton:20260809T170000
DTSTAMP:20260425T103314
CREATED:20260130T235321Z
LAST-MODIFIED:20260130T235321Z
UID:3544-1786096800-1786294800@asianheritagemonth.ca
SUMMARY:Animethon
DESCRIPTION:Animethon is Canada’s longest running anime convention. We are a volunteer-run event that uplifts and showcases Asian popular arts and related local communities in Edmonton\, Alberta\, Canada. We strive to bring people together to celebrate community\, creativity\, and culture. \n\n\n\nAnimethon Music Fes\n\nAnimethon’s Music Fes is a one of a kind Japanese music festival during each night of Animethon weekend. Incredible music talents including the likes of ClariS\, DEMONDICE\, and Myth & Roid perform their greatest hits for Animethon attendees! \n\n\n\n\n\n\n\nAMV Programming\n\nAnimethon has some of the most packed AMV programming of any convention in the world. We have nonstop AMV programming in a dedicated room all weekend long. Alongside a massive contest\, previously hosted by none other than the legendary Vlad. \n\n\n\n\n\n\n\nCharity Auction\n\nEvery year we host an auction with our partner charity\, Edmonton Extra Life in support of the Stollery Children’s Hospital Foundation. This is your shot to not only get interesting and limited items donated by our guests and vendors\, but to help out with a good cause! \n\n\n\n\n\n\n\nFan Panels\n\nAnimethon is by the fans\, for the fans.\nThe entire weekend is packed with fan hosted panels. From informational panels helping you spot bootlegs\, to action packed Mad Libs style battle arc builders. There will surely be tons of content you’ll enjoy!
URL:https://asianheritagemonth.ca/event/animethon-2/
LOCATION:Edmonton Convention Centre\, 9797 Jasper Avenue NW\, Edmonton\, Alberta\, T5J 1N9
ATTACH;FMTTYPE=image/jpeg:https://asianheritagemonth.ca/wp-content/uploads/2026/01/Anime.jpg
END:VEVENT
BEGIN:VEVENT
DTSTART;TZID=America/Edmonton:20260904T170000
DTEND;TZID=America/Edmonton:20260906T160000
DTSTAMP:20260425T103314
CREATED:20260411T040956Z
LAST-MODIFIED:20260411T041125Z
UID:3578-1788541200-1788710400@asianheritagemonth.ca
SUMMARY:Kejia Fest
DESCRIPTION:Kejia Festival is Edmonton’s loudest love-letter to food—an outdoor\, three-day snack-street celebration where you can eat your way through comfort bites from around the world\, one tent at a time. Think sizzling woks\, sweet skewers\, crispy-fried treats\, icy drinks\, and that “I’ll just try one more thing” energy that turns into a full-on tasting tour. But it’s not just about the bites (though… yeah\, it kinda is). Between mouthfuls\, you’ll catch music\, art\, and performances that reflect Edmonton’s multicultural heartbeat—plus welcoming\, inclusive spaces where everyone can join in\, learn something new\, and celebrate together. This isn’t a sit-down dinner. It’s a roaming\, share-with-your-friends\, camera-first food adventure—built for families\, students\, foodies\, and anyone who treats street snacks like a sport. Come curious\, bring a crew\, and expect the best kind of problem: too many amazing options and not enough hands to hold them all.
URL:https://asianheritagemonth.ca/event/kejia-fest/
LOCATION:Louise McKinney Riverfront Park\, 9999 Grierson Hill Road NW\, Edmonton
ATTACH;FMTTYPE=image/png:https://asianheritagemonth.ca/wp-content/uploads/2026/04/kejia-fest.png
END:VEVENT
BEGIN:VEVENT
DTSTART;TZID=America/Edmonton:20260925T140000
DTEND;TZID=America/Edmonton:20260927T230000
DTSTAMP:20260425T103314
CREATED:20260408T172109Z
LAST-MODIFIED:20260408T172347Z
UID:3574-1790344800-1790550000@asianheritagemonth.ca
SUMMARY:AsiaFest YEG
DESCRIPTION:AsiaFest 2025 was an absolute blast! We welcomed over 40 incredible performance groups and more than 100 vendors\, all bringing amazing energy\, culture\, and flavor to an unforgettable weekend.And we’re excited to announce—AsiaFest 2026 is coming back! 🎉 Mark your calendars for September 25–27\, Friday to Sunday\, as we celebrate the Mid-Autumn Festival\, now with extended hours from 2 PM to 11 PM each day. We can’t wait to see you this fall at Currents of Windermere!
URL:https://asianheritagemonth.ca/event/asiafest-yeg/
LOCATION:Currents of Windermere\, Anthony Henday and Terwillegar Drive\, Edmonton\, Alberta
ATTACH;FMTTYPE=image/jpeg:https://asianheritagemonth.ca/wp-content/uploads/2026/04/asia.jpg
END:VEVENT
BEGIN:VEVENT
DTSTART;TZID=America/Edmonton:20260926T090000
DTEND;TZID=America/Edmonton:20260930T170000
DTSTAMP:20260425T103314
CREATED:20260125T074859Z
LAST-MODIFIED:20260125T074859Z
UID:3530-1790413200-1790787600@asianheritagemonth.ca
SUMMARY:Chinatowns United: An International Conference
DESCRIPTION:Date: September 26\, 2026\n– September 30\, 2026\nLocation: Various locations in Edmonton\nAn international conference focused on the resilience and revitalization of Chinatowns worldwide. The event features field trips through the local neighborhood\, keynote speakers from across the globe\, and a curated art exhibit.
URL:https://asianheritagemonth.ca/event/chinatowns-united-an-international-conference/
LOCATION:Chinatown\, 97 to 101 Street / 105 to 107 Avenue\, Edmonton
ATTACH;FMTTYPE=image/jpeg:https://asianheritagemonth.ca/wp-content/uploads/2026/01/Chinatowns-United.jpg
ORGANIZER;CN="Chinatown Transformation Collaborative":MAILTO:info@ctcyeg.com
END:VEVENT
END:VCALENDAR