BEGIN:VCALENDAR
VERSION:2.0
PRODID:-//Asian Heritage - Edmonton - ECPv6.5.0//NONSGML v1.0//EN
CALSCALE:GREGORIAN
METHOD:PUBLISH
X-ORIGINAL-URL:https://asianheritagemonth.ca
X-WR-CALDESC:Events for Asian Heritage - Edmonton
REFRESH-INTERVAL;VALUE=DURATION:PT1H
X-Robots-Tag:noindex
X-PUBLISHED-TTL:PT1H
BEGIN:VTIMEZONE
TZID:America/Edmonton
BEGIN:DAYLIGHT
TZOFFSETFROM:-0700
TZOFFSETTO:-0600
TZNAME:MDT
DTSTART:20240310T090000
END:DAYLIGHT
BEGIN:STANDARD
TZOFFSETFROM:-0600
TZOFFSETTO:-0700
TZNAME:MST
DTSTART:20241103T080000
END:STANDARD
BEGIN:DAYLIGHT
TZOFFSETFROM:-0700
TZOFFSETTO:-0600
TZNAME:MDT
DTSTART:20250309T090000
END:DAYLIGHT
BEGIN:STANDARD
TZOFFSETFROM:-0600
TZOFFSETTO:-0700
TZNAME:MST
DTSTART:20251102T080000
END:STANDARD
BEGIN:DAYLIGHT
TZOFFSETFROM:-0700
TZOFFSETTO:-0600
TZNAME:MDT
DTSTART:20260308T090000
END:DAYLIGHT
BEGIN:STANDARD
TZOFFSETFROM:-0600
TZOFFSETTO:-0700
TZNAME:MST
DTSTART:20261101T080000
END:STANDARD
END:VTIMEZONE
BEGIN:VEVENT
DTSTART;TZID=America/Edmonton:20241103T110000
DTEND;TZID=America/Edmonton:20261231T160000
DTSTAMP:20260425T163628
CREATED:20241104T033434Z
LAST-MODIFIED:20241104T033654Z
UID:3177-1730631600-1798732800@asianheritagemonth.ca
SUMMARY:Journey of the Horse Exhibit
DESCRIPTION:A PERMANENT EXHIBIT at THE MAH SOCIETY OF EDMONTON \nJourney of the Horse is committed to preserving the rich cultural heritage of Edmonton’s Chinese history. Our exhibit is a permanent installation on two levels in the Mah Society of Edmonton building.  \nThis two-part exhibit starts with a journey through the Mah Society of Edmonton’s rich\, 100+ year history. Visitors are encouraged to continue to level two\, to follow the journey of Chinese settlers in Alberta. Also housed on level two are our cultural practices archive and genealogy library. \nCome see our collection of fascinating objects and stories that illustrate the challenges and triumphs of Edmonton’s Chinese community. We invite you to immerse yourself in this historic experience and learn more about Edmonton’s Chinese past. \nOpen only on selected Saturdays and Sundays. \nPlease register for your complimentary entrance tickets. The exhibit is open from 11:00 am to 4:00 pm. We recommend you allow 1+ hour to view all the displays. \nTickets are free but you must reserve \nhttps://journeyofthehorseyeg.wixsite.com/home/visit-us
URL:https://asianheritagemonth.ca/event/journey-of-the-horse-exhibit/
LOCATION:Mah Society of Edmonton\, 9643 101A Avenue NW\, Edmonton\, Alberta\, T5H 0C8\, Edmonton\, Alberta\, T5H 0C8\, Canada
ATTACH;FMTTYPE=image/jpeg:https://asianheritagemonth.ca/wp-content/uploads/2024/11/Journey-of-the-Horse-1.jpg
END:VEVENT
BEGIN:VEVENT
DTSTART;TZID=America/Edmonton:20250912T160000
DTEND;TZID=America/Edmonton:20250914T220000
DTSTAMP:20260425T163628
CREATED:20250617T062417Z
LAST-MODIFIED:20250617T062417Z
UID:3413-1757692800-1757887200@asianheritagemonth.ca
SUMMARY:AsiaFest YEG Taste of the Century
DESCRIPTION:We’re turning up the excitement this year with the vibrant cultures of Indonesia\, Malaysia\, and Singapore taking center stage. Expect a sensory journey filled with mouthwatering dishes\, captivating performances\, and cultural experiences like no other. With over 80 vendors lined up\, you’ll discover even more flavors\, crafts\, and unique finds. And for the thrill-seekers\, don’t miss our brand new Extreme Eating Contest—it’s going to be wild! Supported by the City of Edmonton\, the Government of Alberta\, and many incredible local businesses\, AsiaFest 2025 is set to be our biggest celebration yet. Mark your calendars and stay tuned—AsiaFest 2025 is coming soon!
URL:https://asianheritagemonth.ca/event/asiafest-yeg-taste-of-the-century/
LOCATION:Currents of Windermere\, Anthony Henday and Terwillegar Drive\, Edmonton\, Alberta
ATTACH;FMTTYPE=image/avif:https://asianheritagemonth.ca/wp-content/uploads/2025/06/asiafest-logo.avif
END:VEVENT
BEGIN:VEVENT
DTSTART;TZID=America/Edmonton:20250913T100000
DTEND;TZID=America/Edmonton:20250914T170000
DTSTAMP:20260425T163628
CREATED:20250110T051913Z
LAST-MODIFIED:20250110T051913Z
UID:3274-1757757600-1757869200@asianheritagemonth.ca
SUMMARY:Edmonton Filipino Fiesta 2025
DESCRIPTION:
URL:https://asianheritagemonth.ca/event/edmonton-filipino-fiesta-2025/
LOCATION:Borden Park\, 7507 Borden Park Road\, T5B 4W8
ATTACH;FMTTYPE=image/jpeg:https://asianheritagemonth.ca/wp-content/uploads/2025/01/Filipino-Fiesta-2025.jpg
END:VEVENT
BEGIN:VEVENT
DTSTART;TZID=America/Edmonton:20250920T080000
DTEND;TZID=America/Edmonton:20250920T170000
DTSTAMP:20260425T163628
CREATED:20250702T213336Z
LAST-MODIFIED:20250702T213336Z
UID:3443-1758355200-1758387600@asianheritagemonth.ca
SUMMARY:Mid-Autmn Festival at Griesbach
DESCRIPTION:Celebrate the Mid-Autumn Lantern Festival at Griesbach!\nSaturday\, September 20\, 2025\nPatricia Park\, Griesbach (97 Street & 137 Avenue NW\, Edmonton)\nFree Admission | Family Friendly \nJoin us for a magical evening under the lantern-lit sky at the Mid-Autumn Festival at Griesbach—a vibrant cultural celebration filled with tradition\, community spirit\, and family fun! This beloved event brings together Edmontonians of all backgrounds to celebrate the harvest season and the cherished traditions of the Mid-Autumn Festival. \nEvent Highlights: \n\n\n🌕 Lantern Parade at Dusk – Watch the park light up with hundreds of glowing lanterns in a dazzling community parade. \n\n\n🎭 Live Entertainment – Enjoy captivating performances\, including lion dances\, cultural music\, dance\, and more. \n\n\n🧧 Cultural Booths – Explore hands-on activities\, storytelling\, and crafts for kids and families. \n\n\n🥮 Mooncakes & Food Vendors – Taste traditional mooncakes and indulge in a variety of delicious Asian street food. \n\n\n🏮 Lantern-Making Workshops – Create your own lantern to take home or carry during the evening parade. \n \n\n\nWhether you’re reconnecting with your heritage or discovering the Mid-Autumn Festival for the first time\, this is an unforgettable experience that celebrates connection\, community\, and cultural pride. \nHosted by: The Chinese Graduates Association of Alberta\, with support from the Griesbach Community League \nDon’t forget to bring a lantern and a friend—and dress for the weather!\nFollow us on Instagram @chinesegraduateassociationab for updates!
URL:https://asianheritagemonth.ca/event/mid-autmn-festival-at-griesbach/
LOCATION:Griesbach Gault Boulevard\, Gault Boulevard NW\, Edmonton\, Alberta\, T5E 5V3\, Canada
ATTACH;FMTTYPE=image/jpeg:https://asianheritagemonth.ca/wp-content/uploads/2025/07/midautumn.jpg
ORGANIZER;CN="Chinese Graduates Association of Alberta (CGAA)":MAILTO:info@cgaa.ab.ca 
END:VEVENT
BEGIN:VEVENT
DTSTART;TZID=America/Edmonton:20250920T180000
DTEND;TZID=America/Edmonton:20250920T230000
DTSTAMP:20260425T163628
CREATED:20250911T042234Z
LAST-MODIFIED:20250911T042234Z
UID:3477-1758391200-1758409200@asianheritagemonth.ca
SUMMARY:Chinatown After Dark
DESCRIPTION:This is our version of a Chinatown Night Market where we transform our back alleys into our patio and play space\, bringing in seating\, entertainment\, activities and good vibes while allowing patrons to buy food tickets and curate their dinner spread from over 20 Chinatown restaurants. Imagine Taste of Edmonton but in Chinatown! \n10566 97 Street (Alley behind China Marble restaurant)\nSeptember 20
URL:https://asianheritagemonth.ca/event/chinatown-after-dark-2/
LOCATION:China Marble Restaurant\, 10566 97 Street NW\, Edmonton\, Alberta\, T5H 2L2\, Canada
ATTACH;FMTTYPE=image/jpeg:https://asianheritagemonth.ca/wp-content/uploads/2025/09/Chinatown-after-dark.jpg
END:VEVENT
BEGIN:VEVENT
DTSTART;TZID=America/Edmonton:20250920T203000
DTEND;TZID=America/Edmonton:20250920T220000
DTSTAMP:20260425T163628
CREATED:20250911T035910Z
LAST-MODIFIED:20250911T041129Z
UID:3471-1758400200-1758405600@asianheritagemonth.ca
SUMMARY:White Tiger of the West 西方白虎 Mural Light Show
DESCRIPTION:On the second anniversary of this mural\, the artist Busyrawk has designed an awesome projection light show that will astound audiences. \nThe date coincides with Chinatown After Dark festivities. \nDate: September 20\, Saturday \nTime: 8:30 pm \nLocation: Alleyway behind China Marble Restaurant \nEveryone welcome!
URL:https://asianheritagemonth.ca/event/white-tiger-mural-light-show/
LOCATION:China Marble Restaurant\, 10566 97 Street NW\, Edmonton\, Alberta\, T5H 2L2\, Canada
ATTACH;FMTTYPE=image/jpeg:https://asianheritagemonth.ca/wp-content/uploads/2025/09/White-Tiger.jpg
ORGANIZER;CN="Aiya %E5%90%88%E4%BD%9C%E7%A4%BE Collective":MAILTO:aiyacollective@gmail.com
END:VEVENT
BEGIN:VEVENT
DTSTART;TZID=America/Edmonton:20250927T110000
DTEND;TZID=America/Edmonton:20250927T170000
DTSTAMP:20260425T163628
CREATED:20250830T070755Z
LAST-MODIFIED:20250830T070755Z
UID:3468-1758970800-1758992400@asianheritagemonth.ca
SUMMARY:Mid-Autumn Festival Celebration
DESCRIPTION:Join us for market vendors\, live performances\, kid-friendly activities and much more!
URL:https://asianheritagemonth.ca/event/mid-autumn-festival-celebration-2/
LOCATION:Edmonton Chinatown Multicultural Centre\, 9540 - 102 Avenue NW\, Edmonton\, T5H 0E3
ATTACH;FMTTYPE=image/jpeg:https://asianheritagemonth.ca/wp-content/uploads/2025/08/CBA-Midautumn.jpg
END:VEVENT
BEGIN:VEVENT
DTSTART;TZID=America/Edmonton:20250928T140000
DTEND;TZID=America/Edmonton:20250928T163000
DTSTAMP:20260425T163628
CREATED:20250924T022134Z
LAST-MODIFIED:20250924T022134Z
UID:3484-1759068000-1759077000@asianheritagemonth.ca
SUMMARY:Celebrating Mid Autumn Festival at Chinese Garden
DESCRIPTION:Join the fun lantern parade\, taste delicious moon cakes and enjoy vibrant ethnocultural performances.
URL:https://asianheritagemonth.ca/event/celebrating-mid-autumn-festival-at-chinese-garden/
LOCATION:Chinese Garden\, Louise McKinney Riverfront Park\, Edmonton
ATTACH;FMTTYPE=image/jpeg:https://asianheritagemonth.ca/wp-content/uploads/2025/09/Chinese-Garden-Mid-Autumn-2025.jpg
END:VEVENT
END:VCALENDAR